Package: TDbasedUFE Version: 1.9.0 Command: /home/biocbuild/R/R/bin/R CMD build --keep-empty-dirs --no-resave-data TDbasedUFE StartedAt: 2025-10-03 03:45:58 -0000 (Fri, 03 Oct 2025) EndedAt: 2025-10-03 03:46:37 -0000 (Fri, 03 Oct 2025) EllapsedTime: 39.0 seconds RetCode: 0 Status: OK PackageFile: TDbasedUFE_1.9.0.tar.gz PackageFileSize: 1.039 MiB