Package: TCseq Version: 1.33.0 Command: /home/biocbuild/R/R/bin/R CMD INSTALL TCseq StartedAt: 2025-06-30 20:55:29 -0000 (Mon, 30 Jun 2025) EndedAt: 2025-06-30 20:56:06 -0000 (Mon, 30 Jun 2025) EllapsedTime: 37.4 seconds RetCode: 0 Status: OK