Package: TCseq Version: 1.33.0 Command: /home/biocbuild/R/R/bin/R CMD check --install=check:TCseq.install-out.txt --library=/home/biocbuild/R/R/site-library --no-vignettes --timings TCseq_1.33.0.tar.gz StartedAt: 2025-06-27 12:06:13 -0000 (Fri, 27 Jun 2025) EndedAt: 2025-06-27 12:10:31 -0000 (Fri, 27 Jun 2025) EllapsedTime: 258.3 seconds RetCode: 0 Status: WARNINGS CheckDir: TCseq.Rcheck Warnings: 1