Package: TCseq Version: 1.33.0 Command: F:\biocbuild\bbs-3.22-bioc\R\bin\R.exe CMD INSTALL TCseq StartedAt: 2025-06-29 16:12:44 -0400 (Sun, 29 Jun 2025) EndedAt: 2025-06-29 16:13:26 -0400 (Sun, 29 Jun 2025) EllapsedTime: 42.0 seconds RetCode: 0 Status: OK