Package: TCseq Version: 1.33.0 Command: F:\biocbuild\bbs-3.22-bioc\R\bin\R.exe CMD check --no-multiarch --install=check:TCseq.install-out.txt --library=F:\biocbuild\bbs-3.22-bioc\R\library --no-vignettes --timings TCseq_1.33.0.tar.gz StartedAt: 2025-06-30 07:08:57 -0400 (Mon, 30 Jun 2025) EndedAt: 2025-06-30 07:13:33 -0400 (Mon, 30 Jun 2025) EllapsedTime: 276.7 seconds RetCode: 0 Status: WARNINGS CheckDir: TCseq.Rcheck Warnings: 1