Package: TCseq Version: 1.33.0 Command: chmod a+r TCseq -R && F:\biocbuild\bbs-3.22-bioc\R\bin\R.exe CMD build --keep-empty-dirs --no-resave-data TCseq StartedAt: 2025-06-29 22:29:21 -0400 (Sun, 29 Jun 2025) EndedAt: 2025-06-29 22:30:25 -0400 (Sun, 29 Jun 2025) EllapsedTime: 63.6 seconds RetCode: 0 Status: OK PackageFile: TCseq_1.33.0.tar.gz PackageFileSize: 1.024 MiB