Package: TCseq Version: 1.33.0 Command: /home/biocbuild/bbs-3.22-bioc/R/bin/R CMD INSTALL TCseq StartedAt: 2025-06-29 15:36:16 -0400 (Sun, 29 Jun 2025) EndedAt: 2025-06-29 15:36:43 -0400 (Sun, 29 Jun 2025) EllapsedTime: 27.1 seconds RetCode: 0 Status: OK