Package: TCseq Version: 1.33.0 Command: /home/biocbuild/bbs-3.22-bioc/R/bin/R CMD check --install=check:TCseq.install-out.txt --library=/home/biocbuild/bbs-3.22-bioc/R/site-library --timings TCseq_1.33.0.tar.gz StartedAt: 2025-06-30 03:03:24 -0400 (Mon, 30 Jun 2025) EndedAt: 2025-06-30 03:07:08 -0400 (Mon, 30 Jun 2025) EllapsedTime: 223.2 seconds RetCode: 0 Status: WARNINGS CheckDir: TCseq.Rcheck Warnings: 1