Package: TCseq Version: 1.33.0 Command: /home/biocbuild/bbs-3.22-bioc/R/bin/R CMD build --keep-empty-dirs --no-resave-data --md5 TCseq StartedAt: 2025-06-30 19:32:05 -0400 (Mon, 30 Jun 2025) EndedAt: 2025-06-30 19:32:47 -0400 (Mon, 30 Jun 2025) EllapsedTime: 42.1 seconds RetCode: 0 Status: OK PackageFile: TCseq_1.33.0.tar.gz PackageFileSize: 1.115 MiB