Package: TCseq Version: 1.33.0 Command: /Library/Frameworks/R.framework/Resources/bin/R CMD check --install=check:TCseq.install-out.txt --library=/Library/Frameworks/R.framework/Resources/library --no-vignettes --timings TCseq_1.33.0.tar.gz StartedAt: 2025-06-29 23:48:10 -0400 (Sun, 29 Jun 2025) EndedAt: 2025-06-29 23:52:07 -0400 (Sun, 29 Jun 2025) EllapsedTime: 237.5 seconds RetCode: 0 Status: WARNINGS CheckDir: TCseq.Rcheck Warnings: 1