Package: TCseq Version: 1.33.0 Command: /Library/Frameworks/R.framework/Resources/bin/R CMD check --install=check:TCseq.install-out.txt --library=/Library/Frameworks/R.framework/Resources/library --no-vignettes --timings TCseq_1.33.0.tar.gz StartedAt: 2025-06-29 21:45:06 -0400 (Sun, 29 Jun 2025) EndedAt: 2025-06-29 21:46:29 -0400 (Sun, 29 Jun 2025) EllapsedTime: 83.1 seconds RetCode: 0 Status: WARNINGS CheckDir: TCseq.Rcheck Warnings: 1