Package: TCseq Version: 1.33.0 Command: /Library/Frameworks/R.framework/Resources/bin/R CMD build --keep-empty-dirs --no-resave-data TCseq StartedAt: 2025-06-30 17:44:14 -0400 (Mon, 30 Jun 2025) EndedAt: 2025-06-30 17:44:33 -0400 (Mon, 30 Jun 2025) EllapsedTime: 19.2 seconds RetCode: 0 Status: OK PackageFile: TCseq_1.33.0.tar.gz PackageFileSize: 1.113 MiB