Package: TCC Version: 1.49.1 Command: F:\biocbuild\bbs-3.22-bioc\R\bin\R.exe CMD INSTALL TCC StartedAt: 2025-07-14 16:04:58 -0400 (Mon, 14 Jul 2025) EndedAt: 2025-07-14 16:05:37 -0400 (Mon, 14 Jul 2025) EllapsedTime: 39.2 seconds RetCode: 0 Status: OK