Package: TCC Version: 1.49.1 Command: F:\biocbuild\bbs-3.22-bioc\R\bin\R.exe CMD check --no-multiarch --install=check:TCC.install-out.txt --library=F:\biocbuild\bbs-3.22-bioc\R\library --no-vignettes --timings TCC_1.49.1.tar.gz StartedAt: 2025-07-15 07:21:25 -0400 (Tue, 15 Jul 2025) EndedAt: 2025-07-15 07:27:03 -0400 (Tue, 15 Jul 2025) EllapsedTime: 338.9 seconds RetCode: 0 Status: OK CheckDir: TCC.Rcheck Warnings: 0