Package: TCC Version: 1.49.1 Command: chmod a+r TCC -R && F:\biocbuild\bbs-3.22-bioc\R\bin\R.exe CMD build --keep-empty-dirs --no-resave-data TCC StartedAt: 2025-07-14 22:32:55 -0400 (Mon, 14 Jul 2025) EndedAt: 2025-07-14 22:35:07 -0400 (Mon, 14 Jul 2025) EllapsedTime: 132.7 seconds RetCode: 0 Status: OK PackageFile: TCC_1.49.1.tar.gz PackageFileSize: 1.361 MiB