Package: TCC Version: 1.49.1 Command: rm -rf TCC.buildbin-libdir && mkdir TCC.buildbin-libdir && F:\biocbuild\bbs-3.22-bioc\R\bin\R.exe CMD INSTALL --build --library=TCC.buildbin-libdir TCC_1.49.1.tar.gz StartedAt: 2025-07-15 10:07:17 -0400 (Tue, 15 Jul 2025) EndedAt: 2025-07-15 10:08:03 -0400 (Tue, 15 Jul 2025) EllapsedTime: 46.0 seconds RetCode: 0 Status: OK PackageFile: TCC_1.49.1.zip PackageFileSize: 1.708 MiB