Package: TCC Version: 1.49.1 Command: /Library/Frameworks/R.framework/Resources/bin/R CMD INSTALL TCC StartedAt: 2025-07-22 15:11:06 -0400 (Tue, 22 Jul 2025) EndedAt: 2025-07-22 15:11:17 -0400 (Tue, 22 Jul 2025) EllapsedTime: 11.5 seconds RetCode: 0 Status: OK