Package: TCC Version: 1.49.1 Command: /Library/Frameworks/R.framework/Resources/bin/R CMD check --install=check:TCC.install-out.txt --library=/Library/Frameworks/R.framework/Resources/library --no-vignettes --timings TCC_1.49.1.tar.gz StartedAt: 2025-07-22 21:50:11 -0400 (Tue, 22 Jul 2025) EndedAt: 2025-07-22 21:51:50 -0400 (Tue, 22 Jul 2025) EllapsedTime: 99.3 seconds RetCode: 0 Status: OK CheckDir: TCC.Rcheck Warnings: 0