Package: TCC Version: 1.49.1 Command: /Library/Frameworks/R.framework/Resources/bin/R CMD build --keep-empty-dirs --no-resave-data TCC StartedAt: 2025-07-22 17:45:26 -0400 (Tue, 22 Jul 2025) EndedAt: 2025-07-22 17:46:10 -0400 (Tue, 22 Jul 2025) EllapsedTime: 44.5 seconds RetCode: 0 Status: OK PackageFile: TCC_1.49.1.tar.gz PackageFileSize: 2.602 MiB