Package: TCC Version: 1.49.1 Command: rm -rf TCC.buildbin-libdir && mkdir TCC.buildbin-libdir && /Users/biocbuild/BBS/utils/build-universal.sh TCC_1.49.1.tar.gz /Library/Frameworks/R.framework/Resources/bin/R TCC.buildbin-libdir StartedAt: 2025-07-22 22:42:54 -0400 (Tue, 22 Jul 2025) EndedAt: 2025-07-22 22:43:07 -0400 (Tue, 22 Jul 2025) EllapsedTime: 12.4 seconds RetCode: 0 Status: OK PackageFile: TCC_1.49.1.tgz PackageFileSize: 2.949 MiB