Package: TBSignatureProfiler Version: 1.21.1 Command: /Library/Frameworks/R.framework/Resources/bin/R CMD INSTALL TBSignatureProfiler StartedAt: 2025-07-01 15:58:52 -0400 (Tue, 01 Jul 2025) EndedAt: 2025-07-01 15:58:58 -0400 (Tue, 01 Jul 2025) EllapsedTime: 5.8 seconds RetCode: 0 Status: OK