Package: TBSignatureProfiler Version: 1.21.1 Command: /Library/Frameworks/R.framework/Resources/bin/R CMD check --install=check:TBSignatureProfiler.install-out.txt --library=/Library/Frameworks/R.framework/Resources/library --no-vignettes --timings TBSignatureProfiler_1.21.1.tar.gz StartedAt: 2025-07-02 00:06:09 -0400 (Wed, 02 Jul 2025) EndedAt: 2025-07-02 00:09:08 -0400 (Wed, 02 Jul 2025) EllapsedTime: 178.9 seconds RetCode: 0 Status: OK CheckDir: TBSignatureProfiler.Rcheck Warnings: 0