Package: TBSignatureProfiler Version: 1.21.1 Command: /Library/Frameworks/R.framework/Resources/bin/R CMD build --keep-empty-dirs --no-resave-data TBSignatureProfiler StartedAt: 2025-07-01 18:48:13 -0400 (Tue, 01 Jul 2025) EndedAt: 2025-07-01 18:48:32 -0400 (Tue, 01 Jul 2025) EllapsedTime: 18.3 seconds RetCode: 0 Status: OK PackageFile: TBSignatureProfiler_1.21.1.tar.gz PackageFileSize: 2.895 MiB