Package: TAPseq Version: 1.21.0 Command: F:\biocbuild\bbs-3.22-bioc\R\bin\R.exe CMD check --no-multiarch --install=check:TAPseq.install-out.txt --library=F:\biocbuild\bbs-3.22-bioc\R\library --no-vignettes --timings TAPseq_1.21.0.tar.gz StartedAt: 2025-07-03 07:26:14 -0400 (Thu, 03 Jul 2025) EndedAt: 2025-07-03 07:38:31 -0400 (Thu, 03 Jul 2025) EllapsedTime: 736.5 seconds RetCode: 0 Status: WARNINGS CheckDir: TAPseq.Rcheck Warnings: 1