Package: SynMut Version: 1.25.0 Command: /home/biocbuild/R/R/bin/R CMD INSTALL SynMut StartedAt: 2025-07-07 20:22:35 -0000 (Mon, 07 Jul 2025) EndedAt: 2025-07-07 20:22:50 -0000 (Mon, 07 Jul 2025) EllapsedTime: 15.0 seconds RetCode: 0 Status: OK