Package: SynMut Version: 1.25.0 Command: /home/biocbuild/R/R/bin/R CMD check --install=check:SynMut.install-out.txt --library=/home/biocbuild/R/R/site-library --no-vignettes --timings SynMut_1.25.0.tar.gz StartedAt: 2025-07-08 11:38:26 -0000 (Tue, 08 Jul 2025) EndedAt: 2025-07-08 11:40:06 -0000 (Tue, 08 Jul 2025) EllapsedTime: 100.1 seconds RetCode: 0 Status: OK CheckDir: SynMut.Rcheck Warnings: 0