Package: SynMut Version: 1.25.0 Command: /home/biocbuild/R/R/bin/R CMD build --keep-empty-dirs --no-resave-data SynMut StartedAt: 2025-07-08 03:05:03 -0000 (Tue, 08 Jul 2025) EndedAt: 2025-07-08 03:05:29 -0000 (Tue, 08 Jul 2025) EllapsedTime: 26.1 seconds RetCode: 0 Status: OK PackageFile: SynMut_1.25.0.tar.gz PackageFileSize: 107.1 KiB