Package: SynMut Version: 1.25.0 Command: rm -rf SynMut.buildbin-libdir && mkdir SynMut.buildbin-libdir && F:\biocbuild\bbs-3.22-bioc\R\bin\R.exe CMD INSTALL --build --library=SynMut.buildbin-libdir SynMut_1.25.0.tar.gz StartedAt: 2025-07-15 10:06:32 -0400 (Tue, 15 Jul 2025) EndedAt: 2025-07-15 10:07:03 -0400 (Tue, 15 Jul 2025) EllapsedTime: 31.0 seconds RetCode: 0 Status: OK PackageFile: SynMut_1.25.0.zip PackageFileSize: 322.3 KiB