Package: SynMut Version: 1.25.0 Command: /Library/Frameworks/R.framework/Resources/bin/R CMD INSTALL SynMut StartedAt: 2025-07-02 15:17:01 -0400 (Wed, 02 Jul 2025) EndedAt: 2025-07-02 15:17:18 -0400 (Wed, 02 Jul 2025) EllapsedTime: 17.2 seconds RetCode: 0 Status: OK