Package: SynMut Version: 1.25.0 Command: /Library/Frameworks/R.framework/Resources/bin/R CMD INSTALL SynMut StartedAt: 2025-07-07 15:07:45 -0400 (Mon, 07 Jul 2025) EndedAt: 2025-07-07 15:07:50 -0400 (Mon, 07 Jul 2025) EllapsedTime: 5.4 seconds RetCode: 0 Status: OK