Package: SwathXtend Version: 2.31.0 Command: /home/biocbuild/R/R/bin/R CMD INSTALL SwathXtend StartedAt: 2025-07-14 20:13:06 -0000 (Mon, 14 Jul 2025) EndedAt: 2025-07-14 20:13:35 -0000 (Mon, 14 Jul 2025) EllapsedTime: 29.2 seconds RetCode: 0 Status: OK