Package: SwathXtend Version: 2.31.0 Command: /home/biocbuild/R/R/bin/R CMD build --keep-empty-dirs --no-resave-data SwathXtend StartedAt: 2025-07-15 03:24:28 -0000 (Tue, 15 Jul 2025) EndedAt: 2025-07-15 03:28:50 -0000 (Tue, 15 Jul 2025) EllapsedTime: 261.2 seconds RetCode: 0 Status: OK PackageFile: SwathXtend_2.31.0.tar.gz PackageFileSize: 346.4 MiB