Package: SwathXtend Version: 2.31.0 Command: chmod a+r SwathXtend -R && F:\biocbuild\bbs-3.22-bioc\R\bin\R.exe CMD build --keep-empty-dirs --no-resave-data SwathXtend StartedAt: 2025-07-22 22:31:09 -0400 (Tue, 22 Jul 2025) EndedAt: 2025-07-22 22:36:09 -0400 (Tue, 22 Jul 2025) EllapsedTime: 300.1 seconds RetCode: 0 Status: OK PackageFile: SwathXtend_2.31.0.tar.gz PackageFileSize: 346.1 MiB