Package: SwathXtend Version: 2.31.0 Command: /Library/Frameworks/R.framework/Resources/bin/R CMD build --keep-empty-dirs --no-resave-data SwathXtend StartedAt: 2025-10-03 17:53:03 -0400 (Fri, 03 Oct 2025) EndedAt: 2025-10-03 17:54:38 -0400 (Fri, 03 Oct 2025) EllapsedTime: 95.1 seconds RetCode: 0 Status: OK PackageFile: SwathXtend_2.31.0.tar.gz PackageFileSize: 346.3 MiB