Package: SwathXtend Version: 2.31.0 Command: rm -rf SwathXtend.buildbin-libdir && mkdir SwathXtend.buildbin-libdir && /Users/biocbuild/BBS/utils/build-universal.sh SwathXtend_2.31.0.tar.gz /Library/Frameworks/R.framework/Resources/bin/R SwathXtend.buildbin-libdir StartedAt: 2025-10-03 22:58:03 -0400 (Fri, 03 Oct 2025) EndedAt: 2025-10-03 22:58:21 -0400 (Fri, 03 Oct 2025) EllapsedTime: 17.4 seconds RetCode: 0 Status: OK PackageFile: SwathXtend_2.31.0.tgz PackageFileSize: 346.6 MiB