Package: SurfR Version: 1.5.1 Command: F:\biocbuild\bbs-3.22-bioc\R\bin\R.exe CMD check --no-multiarch --install=check:SurfR.install-out.txt --library=F:\biocbuild\bbs-3.22-bioc\R\library --no-vignettes --timings SurfR_1.5.1.tar.gz StartedAt: 2025-07-12 07:09:06 -0400 (Sat, 12 Jul 2025) EndedAt: 2025-07-12 07:15:29 -0400 (Sat, 12 Jul 2025) EllapsedTime: 383.9 seconds RetCode: 0 Status: OK CheckDir: SurfR.Rcheck Warnings: 0