Package: SurfR Version: 1.5.1 Command: chmod a+r SurfR -R && F:\biocbuild\bbs-3.22-bioc\R\bin\R.exe CMD build --keep-empty-dirs --no-resave-data SurfR StartedAt: 2025-07-09 23:02:46 -0400 (Wed, 09 Jul 2025) EndedAt: 2025-07-09 23:04:04 -0400 (Wed, 09 Jul 2025) EllapsedTime: 78.2 seconds RetCode: 0 Status: OK PackageFile: SurfR_1.5.1.tar.gz PackageFileSize: 372.9 KiB