Package: SuperCellCyto Version: 0.99.2 Command: /home/biocbuild/R/R/bin/R CMD INSTALL SuperCellCyto StartedAt: 2025-10-02 20:30:42 -0000 (Thu, 02 Oct 2025) EndedAt: 2025-10-02 20:31:06 -0000 (Thu, 02 Oct 2025) EllapsedTime: 24.3 seconds RetCode: 0 Status: OK