Package: SuperCellCyto Version: 0.99.2 Command: /home/biocbuild/R/R/bin/R CMD check --install=check:SuperCellCyto.install-out.txt --library=/home/biocbuild/R/R/site-library --no-vignettes --timings SuperCellCyto_0.99.2.tar.gz StartedAt: 2025-10-03 12:12:05 -0000 (Fri, 03 Oct 2025) EndedAt: 2025-10-03 12:20:13 -0000 (Fri, 03 Oct 2025) EllapsedTime: 487.2 seconds RetCode: 0 Status: OK CheckDir: SuperCellCyto.Rcheck Warnings: 0