Package: SuperCellCyto Version: 0.99.2 Command: /home/biocbuild/R/R/bin/R CMD build --keep-empty-dirs --no-resave-data SuperCellCyto StartedAt: 2025-10-03 03:39:18 -0000 (Fri, 03 Oct 2025) EndedAt: 2025-10-03 03:41:49 -0000 (Fri, 03 Oct 2025) EllapsedTime: 151.1 seconds RetCode: 0 Status: OK PackageFile: SuperCellCyto_0.99.2.tar.gz PackageFileSize: 3.585 MiB