Package: SuperCellCyto Version: 0.99.2 Command: /home/biocbuild/bbs-3.22-bioc/R/bin/R CMD INSTALL SuperCellCyto StartedAt: 2025-10-05 15:10:55 -0400 (Sun, 05 Oct 2025) EndedAt: 2025-10-05 15:11:08 -0400 (Sun, 05 Oct 2025) EllapsedTime: 12.9 seconds RetCode: 0 Status: OK