Package: SuperCellCyto Version: 0.99.2 Command: /home/biocbuild/bbs-3.22-bioc/R/bin/R CMD build --keep-empty-dirs --no-resave-data --md5 SuperCellCyto StartedAt: 2025-10-05 20:27:13 -0400 (Sun, 05 Oct 2025) EndedAt: 2025-10-05 20:29:15 -0400 (Sun, 05 Oct 2025) EllapsedTime: 122.1 seconds RetCode: 0 Status: OK PackageFile: SuperCellCyto_0.99.2.tar.gz PackageFileSize: 4.191 MiB