Package: SuperCellCyto Version: 0.99.2 Command: /Library/Frameworks/R.framework/Resources/bin/R CMD build --keep-empty-dirs --no-resave-data SuperCellCyto StartedAt: 2025-10-06 19:19:12 -0400 (Mon, 06 Oct 2025) EndedAt: 2025-10-06 19:21:20 -0400 (Mon, 06 Oct 2025) EllapsedTime: 128.1 seconds RetCode: 0 Status: OK PackageFile: SuperCellCyto_0.99.2.tar.gz PackageFileSize: 4.242 MiB