Package: SuperCellCyto Version: 0.99.2 Command: rm -rf SuperCellCyto.buildbin-libdir && mkdir SuperCellCyto.buildbin-libdir && /Users/biocbuild/BBS/utils/build-universal.sh SuperCellCyto_0.99.2.tar.gz /Library/Frameworks/R.framework/Resources/bin/R SuperCellCyto.buildbin-libdir StartedAt: 2025-10-06 02:28:26 -0400 (Mon, 06 Oct 2025) EndedAt: 2025-10-06 02:28:37 -0400 (Mon, 06 Oct 2025) EllapsedTime: 11.7 seconds RetCode: 0 Status: OK PackageFile: SuperCellCyto_0.99.2.tgz PackageFileSize: 3.679 MiB