Package: SuperCellCyto Version: 0.99.2 Command: /Library/Frameworks/R.framework/Resources/bin/R CMD INSTALL SuperCellCyto StartedAt: 2025-10-05 15:06:31 -0400 (Sun, 05 Oct 2025) EndedAt: 2025-10-05 15:06:37 -0400 (Sun, 05 Oct 2025) EllapsedTime: 5.5 seconds RetCode: 0 Status: OK