Package: SuperCellCyto Version: 0.99.2 Command: /Library/Frameworks/R.framework/Resources/bin/R CMD build --keep-empty-dirs --no-resave-data SuperCellCyto StartedAt: 2025-10-05 17:56:33 -0400 (Sun, 05 Oct 2025) EndedAt: 2025-10-05 17:57:25 -0400 (Sun, 05 Oct 2025) EllapsedTime: 51.6 seconds RetCode: 0 Status: OK PackageFile: SuperCellCyto_0.99.2.tar.gz PackageFileSize: 4.254 MiB