Package: Summix Version: 2.15.0 Command: /home/biocbuild/R/R/bin/R CMD INSTALL Summix StartedAt: 2025-07-17 20:17:12 -0000 (Thu, 17 Jul 2025) EndedAt: 2025-07-17 20:17:37 -0000 (Thu, 17 Jul 2025) EllapsedTime: 25.1 seconds RetCode: 0 Status: OK