Package: Summix Version: 2.15.0 Command: /home/biocbuild/R/R/bin/R CMD build --keep-empty-dirs --no-resave-data Summix StartedAt: 2025-07-18 03:30:49 -0000 (Fri, 18 Jul 2025) EndedAt: 2025-07-18 03:31:07 -0000 (Fri, 18 Jul 2025) EllapsedTime: 18.0 seconds RetCode: 0 Status: OK PackageFile: Summix_2.15.0.tar.gz PackageFileSize: 1.255 MiB