Package: Summix Version: 2.15.0 Command: F:\biocbuild\bbs-3.22-bioc\R\bin\R.exe CMD INSTALL Summix StartedAt: 2025-07-21 15:43:41 -0400 (Mon, 21 Jul 2025) EndedAt: 2025-07-21 15:44:01 -0400 (Mon, 21 Jul 2025) EllapsedTime: 19.9 seconds RetCode: 0 Status: OK