Package: Summix Version: 2.15.0 Command: chmod a+r Summix -R && F:\biocbuild\bbs-3.22-bioc\R\bin\R.exe CMD build --keep-empty-dirs --no-resave-data Summix StartedAt: 2025-07-21 22:31:22 -0400 (Mon, 21 Jul 2025) EndedAt: 2025-07-21 22:31:43 -0400 (Mon, 21 Jul 2025) EllapsedTime: 20.9 seconds RetCode: 0 Status: OK PackageFile: Summix_2.15.0.tar.gz PackageFileSize: 1.254 MiB